BEGIN:VCALENDAR
VERSION:2.0
PRODID:-//wp-events-plugin.com//7.2.3.1//EN
BEGIN:VEVENT
UID:559@oeilouvert.net
DTSTART:20251015T190000Z
DTEND:20251015T214500Z
DTSTAMP:20250911T171458Z
URL:https://www.oeilouvert.net/events/assemblee-generale-6/
SUMMARY:Assemblée Générale
DESCRIPTION:Nous ferons le bilan de la saison précédente (les anciens mem
 bres ayant ré-adhéré pourrons voter)
CATEGORIES:Séance générale
LOCATION:\, \, 
X-APPLE-STRUCTURED-LOCATION;VALUE=URI;X-ADDRESS=\, ;X-APPLE-RADIUS=100;X-TI
 TLE=:geo:0,0
END:VEVENT
END:VCALENDAR