BEGIN:VCALENDAR
VERSION:2.0
PRODID:-//wp-events-plugin.com//7.2.3.1//EN
BEGIN:VEVENT
UID:577@oeilouvert.net
DTSTART:20260331T230000Z
DTEND:20260331T230000Z
DTSTAMP:20260309T165543Z
URL:https://www.oeilouvert.net/events/expose/
SUMMARY:Exposé
DESCRIPTION:Présentation de la photo d'architecture par&nbsp\; Chantal Led
 ain\, intervenante extérieure.
CATEGORIES:Séance générale
LOCATION:Saint Jean\, 26\, Place St Jean\, Melun\, 77000\, Seine et marne\,
  France
GEO:48.5392966;2.6630270000000564
X-APPLE-STRUCTURED-LOCATION;VALUE=URI;X-ADDRESS=26\, Place St Jean\, Melun\
 , 77000\, Seine et marne\, France;X-APPLE-RADIUS=100;X-TITLE=Saint Jean:ge
 o:48.5392966,2.6630270000000564
END:VEVENT
END:VCALENDAR