BEGIN:VCALENDAR
VERSION:2.0
PRODID:-//wp-events-plugin.com//7.2.3.1//EN
BEGIN:VEVENT
UID:579@oeilouvert.net
DTSTART:20260414T230000Z
DTEND:20260414T230000Z
DTSTAMP:20260309T170121Z
URL:https://www.oeilouvert.net/events/mini-concours-17/
SUMMARY:Mini concours
DESCRIPTION:Mini concours : "Nature morte"&nbsp\;\n\nAttention\, date limit
 e pour l'envoi des photos pour le livre de l'Oeil Ouvert. 
CATEGORIES:Mini concours,Séance générale
LOCATION:Saint Jean\, 26\, Place St Jean\, Melun\, 77000\, Seine et marne\,
  France
GEO:48.5392966;2.6630270000000564
X-APPLE-STRUCTURED-LOCATION;VALUE=URI;X-ADDRESS=26\, Place St Jean\, Melun\
 , 77000\, Seine et marne\, France;X-APPLE-RADIUS=100;X-TITLE=Saint Jean:ge
 o:48.5392966,2.6630270000000564
END:VEVENT
END:VCALENDAR