BEGIN:VCALENDAR
VERSION:2.0
PRODID:-//wp-events-plugin.com//7.2.3.1//EN
BEGIN:VEVENT
UID:585@oeilouvert.net
DTSTART:20260526T230000Z
DTEND:20260526T230000Z
DTSTAMP:20260309T171436Z
URL:https://www.oeilouvert.net/events/mini-concours-47/
SUMMARY:Mini concours
DESCRIPTION:Mini concours - Thème : "La pluie"
CATEGORIES:Mini concours
LOCATION:Saint Jean\, 26\, Place St Jean\, Melun\, 77000\, Seine et marne\,
  France
GEO:48.5392966;2.6630270000000564
X-APPLE-STRUCTURED-LOCATION;VALUE=URI;X-ADDRESS=26\, Place St Jean\, Melun\
 , 77000\, Seine et marne\, France;X-APPLE-RADIUS=100;X-TITLE=Saint Jean:ge
 o:48.5392966,2.6630270000000564
END:VEVENT
END:VCALENDAR