BEGIN:VCALENDAR
VERSION:2.0
PRODID:-//wp-events-plugin.com//7.2.3.1//EN
BEGIN:VEVENT
UID:589@oeilouvert.net
DTSTART:20260623T230000Z
DTEND:20260623T230000Z
DTSTAMP:20260309T175824Z
URL:https://www.oeilouvert.net/events/repas-de-fin-dannee/
SUMMARY:Repas de fin d'année
DESCRIPTION:Repas de fin d'année dans un restaurant local.
CATEGORIES:Sortie
LOCATION:Saint Jean\, 26\, Place St Jean\, Melun\, 77000\, Seine et marne\,
  France
GEO:48.5392966;2.6630270000000564
X-APPLE-STRUCTURED-LOCATION;VALUE=URI;X-ADDRESS=26\, Place St Jean\, Melun\
 , 77000\, Seine et marne\, France;X-APPLE-RADIUS=100;X-TITLE=Saint Jean:ge
 o:48.5392966,2.6630270000000564
END:VEVENT
END:VCALENDAR