BEGIN:VCALENDAR
VERSION:2.0
PRODID:-//wp-events-plugin.com//7.2.3.1//EN
BEGIN:VEVENT
UID:505@oeilouvert.net
DTSTART:20240320T190000Z
DTEND:20240320T210000Z
DTSTAMP:20240208T074018Z
URL:https://www.oeilouvert.net/events/studio-flash-9/
SUMMARY:Studio Flash
DESCRIPTION:Studio Flash Portrait
CATEGORIES:Séance générale
LOCATION:Maison des Associations Jean XIII\, 26\, rue Edmond Michelet\, Mel
 un\, 77000\, France
X-APPLE-STRUCTURED-LOCATION;VALUE=URI;X-ADDRESS=26\, rue Edmond Michelet\, 
 Melun\, 77000\, France;X-APPLE-RADIUS=100;X-TITLE=Maison des Associations 
 Jean XIII:geo:0,0
END:VEVENT
END:VCALENDAR